Package: ngsReports Version: 2.9.0 Command: /home/biocbuild/bbs-3.21-bioc/R/bin/R CMD check --install=check:ngsReports.install-out.txt --library=/home/biocbuild/bbs-3.21-bioc/R/site-library --timings ngsReports_2.9.0.tar.gz StartedAt: 2025-02-10 00:48:03 -0500 (Mon, 10 Feb 2025) EndedAt: 2025-02-10 00:51:38 -0500 (Mon, 10 Feb 2025) EllapsedTime: 215.2 seconds RetCode: 0 Status: OK CheckDir: ngsReports.Rcheck Warnings: 0