Package: ngsReports Version: 2.9.0 Command: /home/biocbuild/bbs-3.21-bioc/R/bin/R CMD INSTALL ngsReports StartedAt: 2025-02-09 15:37:00 -0500 (Sun, 09 Feb 2025) EndedAt: 2025-02-09 15:37:18 -0500 (Sun, 09 Feb 2025) EllapsedTime: 18.2 seconds RetCode: 0 Status: OK