Package: ngsReports Version: 2.9.0 Command: rm -rf ngsReports.buildbin-libdir && mkdir ngsReports.buildbin-libdir && E:\biocbuild\bbs-3.21-bioc\R\bin\R.exe CMD INSTALL --build --library=ngsReports.buildbin-libdir ngsReports_2.9.0.tar.gz StartedAt: 2025-02-11 08:30:08 -0500 (Tue, 11 Feb 2025) EndedAt: 2025-02-11 08:31:41 -0500 (Tue, 11 Feb 2025) EllapsedTime: 93.2 seconds RetCode: 0 Status: OK PackageFile: ngsReports_2.9.0.zip PackageFileSize: 2.219 MiB