Package: ngsReports Version: 2.9.0 Command: chmod a+r ngsReports -R && E:\biocbuild\bbs-3.21-bioc\R\bin\R.exe CMD build --keep-empty-dirs --no-resave-data ngsReports StartedAt: 2025-02-10 20:33:33 -0500 (Mon, 10 Feb 2025) EndedAt: 2025-02-10 20:36:16 -0500 (Mon, 10 Feb 2025) EllapsedTime: 163.2 seconds RetCode: 0 Status: OK PackageFile: ngsReports_2.9.0.tar.gz PackageFileSize: 1.602 MiB