Package: ngsReports Version: 2.9.0 Command: E:\biocbuild\bbs-3.21-bioc\R\bin\R.exe CMD check --no-multiarch --install=check:ngsReports.install-out.txt --library=E:\biocbuild\bbs-3.21-bioc\R\library --no-vignettes --timings ngsReports_2.9.0.tar.gz StartedAt: 2025-02-11 03:50:15 -0500 (Tue, 11 Feb 2025) EndedAt: 2025-02-11 03:54:09 -0500 (Tue, 11 Feb 2025) EllapsedTime: 233.9 seconds RetCode: 0 Status: OK CheckDir: ngsReports.Rcheck Warnings: 0