Package: ngsReports Version: 2.9.0 Command: E:\biocbuild\bbs-3.21-bioc\R\bin\R.exe CMD INSTALL ngsReports StartedAt: 2025-02-10 16:03:41 -0500 (Mon, 10 Feb 2025) EndedAt: 2025-02-10 16:05:11 -0500 (Mon, 10 Feb 2025) EllapsedTime: 90.7 seconds RetCode: 0 Status: OK