Package: nipalsMCIA Version: 1.5.2 Command: /Library/Frameworks/R.framework/Resources/bin/R CMD build --keep-empty-dirs --no-resave-data nipalsMCIA StartedAt: 2025-02-05 17:08:44 -0500 (Wed, 05 Feb 2025) EndedAt: 2025-02-05 17:10:20 -0500 (Wed, 05 Feb 2025) EllapsedTime: 96.2 seconds RetCode: 0 Status: OK PackageFile: nipalsMCIA_1.5.2.tar.gz PackageFileSize: 3.785 MiB