Package: nipalsMCIA Version: 1.5.2 Command: /Library/Frameworks/R.framework/Resources/bin/R CMD build --keep-empty-dirs --no-resave-data nipalsMCIA StartedAt: 2025-02-05 17:38:28 -0500 (Wed, 05 Feb 2025) EndedAt: 2025-02-05 17:42:41 -0500 (Wed, 05 Feb 2025) EllapsedTime: 252.8 seconds RetCode: 0 Status: OK PackageFile: nipalsMCIA_1.5.2.tar.gz PackageFileSize: 3.784 MiB