Package: nipalsMCIA Version: 1.5.2 Command: /Library/Frameworks/R.framework/Resources/bin/R CMD check --install=check:nipalsMCIA.install-out.txt --library=/Library/Frameworks/R.framework/Resources/library --no-vignettes --timings nipalsMCIA_1.5.2.tar.gz StartedAt: 2025-02-04 22:04:58 -0500 (Tue, 04 Feb 2025) EndedAt: 2025-02-04 22:10:05 -0500 (Tue, 04 Feb 2025) EllapsedTime: 307.7 seconds RetCode: 0 Status: OK CheckDir: nipalsMCIA.Rcheck Warnings: 0