Package: nipalsMCIA Version: 1.5.2 Command: /Library/Frameworks/R.framework/Resources/bin/R CMD INSTALL nipalsMCIA StartedAt: 2025-02-04 15:31:08 -0500 (Tue, 04 Feb 2025) EndedAt: 2025-02-04 15:31:41 -0500 (Tue, 04 Feb 2025) EllapsedTime: 33.4 seconds RetCode: 0 Status: OK