Package: nipalsMCIA Version: 1.5.2 Command: /home/biocbuild/bbs-3.21-bioc/R/bin/R CMD build --keep-empty-dirs --no-resave-data nipalsMCIA StartedAt: 2025-02-05 18:25:48 -0500 (Wed, 05 Feb 2025) EndedAt: 2025-02-05 18:29:30 -0500 (Wed, 05 Feb 2025) EllapsedTime: 222.4 seconds RetCode: 0 Status: OK PackageFile: nipalsMCIA_1.5.2.tar.gz PackageFileSize: 3.142 MiB