Package: nipalsMCIA Version: 1.5.2 Command: /home/biocbuild/bbs-3.21-bioc/R/bin/R CMD INSTALL nipalsMCIA StartedAt: 2025-02-05 15:19:15 -0500 (Wed, 05 Feb 2025) EndedAt: 2025-02-05 15:19:41 -0500 (Wed, 05 Feb 2025) EllapsedTime: 26.0 seconds RetCode: 0 Status: OK