Package: nipalsMCIA Version: 1.5.2 Command: rm -rf nipalsMCIA.buildbin-libdir && mkdir nipalsMCIA.buildbin-libdir && E:\biocbuild\bbs-3.21-bioc\R\bin\R.exe CMD INSTALL --build --library=nipalsMCIA.buildbin-libdir nipalsMCIA_1.5.2.tar.gz StartedAt: 2025-02-06 08:36:22 -0500 (Thu, 06 Feb 2025) EndedAt: 2025-02-06 08:37:13 -0500 (Thu, 06 Feb 2025) EllapsedTime: 50.9 seconds RetCode: 0 Status: OK PackageFile: nipalsMCIA_1.5.2.zip PackageFileSize: 3.415 MiB