Package: nipalsMCIA Version: 1.5.2 Command: chmod a+r nipalsMCIA -R && E:\biocbuild\bbs-3.21-bioc\R\bin\R.exe CMD build --keep-empty-dirs --no-resave-data nipalsMCIA StartedAt: 2025-02-05 20:27:19 -0500 (Wed, 05 Feb 2025) EndedAt: 2025-02-05 20:43:31 -0500 (Wed, 05 Feb 2025) EllapsedTime: 971.8 seconds RetCode: 0 Status: OK PackageFile: nipalsMCIA_1.5.2.tar.gz PackageFileSize: 3.176 MiB