Package: nipalsMCIA Version: 1.5.2 Command: E:\biocbuild\bbs-3.21-bioc\R\bin\R.exe CMD check --no-multiarch --install=check:nipalsMCIA.install-out.txt --library=E:\biocbuild\bbs-3.21-bioc\R\library --no-vignettes --timings nipalsMCIA_1.5.2.tar.gz StartedAt: 2025-02-06 04:08:11 -0500 (Thu, 06 Feb 2025) EndedAt: 2025-02-06 04:13:59 -0500 (Thu, 06 Feb 2025) EllapsedTime: 348.3 seconds RetCode: 0 Status: OK CheckDir: nipalsMCIA.Rcheck Warnings: 0