Package: nnNorm Version: 2.71.0 Command: /Library/Frameworks/R.framework/Resources/bin/R CMD build --keep-empty-dirs --no-resave-data nnNorm StartedAt: 2025-02-12 17:07:50 -0500 (Wed, 12 Feb 2025) EndedAt: 2025-02-12 17:08:20 -0500 (Wed, 12 Feb 2025) EllapsedTime: 30.3 seconds RetCode: 0 Status: OK PackageFile: nnNorm_2.71.0.tar.gz PackageFileSize: 1.59 MiB