Package: nnSVG Version: 1.11.3 Maintainer: Lukas M. Weber MaintainerEmail: lmweb012 at gmail.com git_url: https://git.bioconductor.org/packages/nnSVG git_branch: devel git_last_commit: 1dcbe97 git_last_commit_date: 2025-02-07 17:30:47 -0500 (Fri, 07 Feb 2025)