Package: nnSVG Version: 1.11.3 Command: /Library/Frameworks/R.framework/Resources/bin/R CMD build --keep-empty-dirs --no-resave-data nnSVG StartedAt: 2025-02-09 17:44:50 -0500 (Sun, 09 Feb 2025) EndedAt: 2025-02-09 17:46:45 -0500 (Sun, 09 Feb 2025) EllapsedTime: 115.1 seconds RetCode: 1 Status: ERROR PackageFile: None PackageFileSize: NA