Package: nnSVG Version: 1.11.3 Command: /Library/Frameworks/R.framework/Resources/bin/R CMD INSTALL nnSVG StartedAt: 2025-02-09 15:16:28 -0500 (Sun, 09 Feb 2025) EndedAt: 2025-02-09 15:16:58 -0500 (Sun, 09 Feb 2025) EllapsedTime: 30.3 seconds RetCode: 0 Status: OK