Package: nnSVG Version: 1.11.3 Command: E:\biocbuild\bbs-3.21-bioc\R\bin\R.exe CMD INSTALL nnSVG StartedAt: 2025-02-09 16:27:40 -0500 (Sun, 09 Feb 2025) EndedAt: 2025-02-09 16:28:07 -0500 (Sun, 09 Feb 2025) EllapsedTime: 27.0 seconds RetCode: 0 Status: OK