Package: nondetects Version: 2.37.0 Command: /Library/Frameworks/R.framework/Resources/bin/R CMD build --keep-empty-dirs --no-resave-data nondetects StartedAt: 2025-02-09 17:45:47 -0500 (Sun, 09 Feb 2025) EndedAt: 2025-02-09 17:45:49 -0500 (Sun, 09 Feb 2025) EllapsedTime: 2.3 seconds RetCode: 1 Status: ERROR PackageFile: None PackageFileSize: NA