Package: nondetects Version: 2.37.0 Command: chmod a+r nondetects -R && E:\biocbuild\bbs-3.21-bioc\R\bin\R.exe CMD build --keep-empty-dirs --no-resave-data nondetects StartedAt: 2025-02-09 20:21:34 -0500 (Sun, 09 Feb 2025) EndedAt: 2025-02-09 20:21:37 -0500 (Sun, 09 Feb 2025) EllapsedTime: 3.2 seconds RetCode: 1 Status: ERROR PackageFile: None PackageFileSize: NA