Package: normr Version: 1.33.0 Command: rm -rf normr.buildbin-libdir && mkdir normr.buildbin-libdir && /Users/biocbuild/BBS/utils/build-universal.sh normr_1.33.0.tar.gz /Library/Frameworks/R.framework/Resources/bin/R normr.buildbin-libdir StartedAt: 2025-02-09 22:23:50 -0500 (Sun, 09 Feb 2025) EndedAt: 2025-02-09 22:24:09 -0500 (Sun, 09 Feb 2025) EllapsedTime: 19.4 seconds RetCode: 0 Status: OK PackageFile: normr_1.33.0.tgz PackageFileSize: 4.201 MiB