Package: normr Version: 1.33.0 Command: /Library/Frameworks/R.framework/Resources/bin/R CMD INSTALL normr StartedAt: 2025-02-12 15:09:41 -0500 (Wed, 12 Feb 2025) EndedAt: 2025-02-12 15:09:59 -0500 (Wed, 12 Feb 2025) EllapsedTime: 17.6 seconds RetCode: 0 Status: OK