Package: normr Version: 1.33.0 Command: /home/biocbuild/R/R/bin/R CMD build --keep-empty-dirs --no-resave-data normr StartedAt: 2025-01-29 00:54:35 -0000 (Wed, 29 Jan 2025) EndedAt: 2025-01-29 00:57:03 -0000 (Wed, 29 Jan 2025) EllapsedTime: 147.3 seconds RetCode: 0 Status: OK PackageFile: normr_1.33.0.tar.gz PackageFileSize: 3.165 MiB