Package: normr Version: 1.33.0 Command: rm -rf normr.buildbin-libdir && mkdir normr.buildbin-libdir && /Users/biocbuild/BBS/utils/build-universal.sh normr_1.33.0.tar.gz /Library/Frameworks/R.framework/Resources/bin/R normr.buildbin-libdir StartedAt: 2025-02-10 01:06:16 -0500 (Mon, 10 Feb 2025) EndedAt: 2025-02-10 01:07:18 -0500 (Mon, 10 Feb 2025) EllapsedTime: 62.3 seconds RetCode: 0 Status: OK PackageFile: normr_1.33.0.tgz PackageFileSize: 4.18 MiB