Package: normr Version: 1.33.0 Command: /Library/Frameworks/R.framework/Resources/bin/R CMD build --keep-empty-dirs --no-resave-data normr StartedAt: 2025-02-12 17:39:46 -0500 (Wed, 12 Feb 2025) EndedAt: 2025-02-12 17:41:55 -0500 (Wed, 12 Feb 2025) EllapsedTime: 129.0 seconds RetCode: 0 Status: OK PackageFile: normr_1.33.0.tar.gz PackageFileSize: 3.76 MiB