Package: normr Version: 1.33.0 Command: /home/biocbuild/bbs-3.21-bioc/R/bin/R CMD build --keep-empty-dirs --no-resave-data normr StartedAt: 2025-02-09 18:27:11 -0500 (Sun, 09 Feb 2025) EndedAt: 2025-02-09 18:28:44 -0500 (Sun, 09 Feb 2025) EllapsedTime: 93.2 seconds RetCode: 0 Status: OK PackageFile: normr_1.33.0.tar.gz PackageFileSize: 3.667 MiB