Package: normr Version: 1.33.0 Command: /home/biocbuild/bbs-3.21-bioc/R/bin/R CMD check --install=check:normr.install-out.txt --library=/home/biocbuild/bbs-3.21-bioc/R/site-library --timings normr_1.33.0.tar.gz StartedAt: 2025-02-10 00:50:33 -0500 (Mon, 10 Feb 2025) EndedAt: 2025-02-10 00:55:40 -0500 (Mon, 10 Feb 2025) EllapsedTime: 306.5 seconds RetCode: 0 Status: WARNINGS CheckDir: normr.Rcheck Warnings: 1