Package: normr Version: 1.33.0 Command: /home/biocbuild/bbs-3.21-bioc/R/bin/R CMD INSTALL normr StartedAt: 2025-02-09 15:26:35 -0500 (Sun, 09 Feb 2025) EndedAt: 2025-02-09 15:27:22 -0500 (Sun, 09 Feb 2025) EllapsedTime: 46.5 seconds RetCode: 0 Status: OK