Package: normr Version: 1.33.0 Command: E:\biocbuild\bbs-3.21-bioc\R\bin\R.exe CMD check --no-multiarch --install=check:normr.install-out.txt --library=E:\biocbuild\bbs-3.21-bioc\R\library --no-vignettes --timings normr_1.33.0.tar.gz StartedAt: 2025-02-10 03:40:04 -0500 (Mon, 10 Feb 2025) EndedAt: 2025-02-10 03:46:00 -0500 (Mon, 10 Feb 2025) EllapsedTime: 355.6 seconds RetCode: 0 Status: WARNINGS CheckDir: normr.Rcheck Warnings: 2