Package: npGSEA Version: 1.43.0 Command: rm -rf npGSEA.buildbin-libdir && mkdir npGSEA.buildbin-libdir && /Users/biocbuild/BBS/utils/build-universal.sh npGSEA_1.43.0.tar.gz /Library/Frameworks/R.framework/Resources/bin/R npGSEA.buildbin-libdir StartedAt: 2025-02-09 22:23:54 -0500 (Sun, 09 Feb 2025) EndedAt: 2025-02-09 22:24:01 -0500 (Sun, 09 Feb 2025) EllapsedTime: 7.2 seconds RetCode: 0 Status: OK PackageFile: npGSEA_1.43.0.tgz PackageFileSize: 701.6 KiB