Package: npGSEA Version: 1.43.0 Command: rm -rf npGSEA.buildbin-libdir && mkdir npGSEA.buildbin-libdir && /Users/biocbuild/BBS/utils/build-universal.sh npGSEA_1.43.0.tar.gz /Library/Frameworks/R.framework/Resources/bin/R npGSEA.buildbin-libdir StartedAt: 2025-02-13 00:49:00 -0500 (Thu, 13 Feb 2025) EndedAt: 2025-02-13 00:49:25 -0500 (Thu, 13 Feb 2025) EllapsedTime: 25.6 seconds RetCode: 0 Status: OK PackageFile: npGSEA_1.43.0.tgz PackageFileSize: 700.7 KiB