Package: npGSEA Version: 1.43.0 Command: /Library/Frameworks/R.framework/Resources/bin/R CMD build --keep-empty-dirs --no-resave-data npGSEA StartedAt: 2025-02-12 17:40:10 -0500 (Wed, 12 Feb 2025) EndedAt: 2025-02-12 17:41:15 -0500 (Wed, 12 Feb 2025) EllapsedTime: 65.1 seconds RetCode: 0 Status: OK PackageFile: npGSEA_1.43.0.tar.gz PackageFileSize: 357.7 KiB