Package: npGSEA Version: 1.43.0 Command: /Library/Frameworks/R.framework/Resources/bin/R CMD INSTALL npGSEA StartedAt: 2025-02-12 15:16:24 -0500 (Wed, 12 Feb 2025) EndedAt: 2025-02-12 15:16:47 -0500 (Wed, 12 Feb 2025) EllapsedTime: 22.8 seconds RetCode: 0 Status: OK