Package: npGSEA Version: 1.43.0 Command: chmod a+r npGSEA -R && E:\biocbuild\bbs-3.21-bioc\R\bin\R.exe CMD build --keep-empty-dirs --no-resave-data npGSEA StartedAt: 2025-02-09 20:22:55 -0500 (Sun, 09 Feb 2025) EndedAt: 2025-02-09 20:23:45 -0500 (Sun, 09 Feb 2025) EllapsedTime: 50.4 seconds RetCode: 0 Status: OK PackageFile: npGSEA_1.43.0.tar.gz PackageFileSize: 293.8 KiB