Package: nuCpos Version: 1.25.0 Maintainer: Hiroaki Kato MaintainerEmail: hkato at med.shimane-u.ac.jp git_url: https://git.bioconductor.org/packages/nuCpos git_branch: devel git_last_commit: 8f49c5e git_last_commit_date: 2024-10-29 10:30:35 -0500 (Tue, 29 Oct 2024)