Package: nuCpos Version: 1.25.0 Command: /Library/Frameworks/R.framework/Resources/bin/R CMD INSTALL nuCpos StartedAt: 2025-02-09 15:01:10 -0500 (Sun, 09 Feb 2025) EndedAt: 2025-02-09 15:01:18 -0500 (Sun, 09 Feb 2025) EllapsedTime: 7.9 seconds RetCode: 0 Status: OK