Package: nuCpos Version: 1.25.0 Command: /Library/Frameworks/R.framework/Resources/bin/R CMD INSTALL nuCpos StartedAt: 2025-02-09 15:03:48 -0500 (Sun, 09 Feb 2025) EndedAt: 2025-02-09 15:04:20 -0500 (Sun, 09 Feb 2025) EllapsedTime: 32.0 seconds RetCode: 0 Status: OK