Package: nuCpos Version: 1.25.0 Command: rm -rf nuCpos.buildbin-libdir && mkdir nuCpos.buildbin-libdir && E:\biocbuild\bbs-3.21-bioc\R\bin\R.exe CMD INSTALL --build --library=nuCpos.buildbin-libdir nuCpos_1.25.0.tar.gz StartedAt: 2025-02-10 08:18:19 -0500 (Mon, 10 Feb 2025) EndedAt: 2025-02-10 08:18:37 -0500 (Mon, 10 Feb 2025) EllapsedTime: 17.9 seconds RetCode: 0 Status: OK PackageFile: nuCpos_1.25.0.zip PackageFileSize: 1.594 MiB