Package: nuCpos Version: 1.25.0 Command: chmod a+r nuCpos -R && E:\biocbuild\bbs-3.21-bioc\R\bin\R.exe CMD build --keep-empty-dirs --no-resave-data nuCpos StartedAt: 2025-02-09 20:23:20 -0500 (Sun, 09 Feb 2025) EndedAt: 2025-02-09 20:24:00 -0500 (Sun, 09 Feb 2025) EllapsedTime: 39.6 seconds RetCode: 0 Status: OK PackageFile: nuCpos_1.25.0.tar.gz PackageFileSize: 2.269 MiB