Package: nuCpos Version: 1.25.0 Command: E:\biocbuild\bbs-3.21-bioc\R\bin\R.exe CMD check --no-multiarch --install=check:nuCpos.install-out.txt --library=E:\biocbuild\bbs-3.21-bioc\R\library --no-vignettes --timings nuCpos_1.25.0.tar.gz StartedAt: 2025-02-10 03:41:21 -0500 (Mon, 10 Feb 2025) EndedAt: 2025-02-10 03:42:09 -0500 (Mon, 10 Feb 2025) EllapsedTime: 47.6 seconds RetCode: 0 Status: OK CheckDir: nuCpos.Rcheck Warnings: 0