Package: nuCpos Version: 1.25.0 Command: E:\biocbuild\bbs-3.21-bioc\R\bin\R.exe CMD INSTALL nuCpos StartedAt: 2025-02-09 15:19:31 -0500 (Sun, 09 Feb 2025) EndedAt: 2025-02-09 15:19:51 -0500 (Sun, 09 Feb 2025) EllapsedTime: 20.0 seconds RetCode: 0 Status: OK