Package: nucleR Version: 2.39.0 Command: /Library/Frameworks/R.framework/Resources/bin/R CMD INSTALL nucleR StartedAt: 2025-02-09 15:12:19 -0500 (Sun, 09 Feb 2025) EndedAt: 2025-02-09 15:12:34 -0500 (Sun, 09 Feb 2025) EllapsedTime: 15.1 seconds RetCode: 0 Status: OK