############################################################################## ############################################################################## ### ### Running command: ### ### /home/biocbuild/bbs-3.21-bioc/R/bin/R CMD INSTALL nucleR ### ############################################################################## ############################################################################## * installing to library ‘/home/biocbuild/bbs-3.21-bioc/R/site-library’ * installing *source* package ‘nucleR’ ... ** this is package ‘nucleR’ version ‘2.39.0’ ** using staged installation ** R ** data ** inst ** byte-compile and prepare package for lazy loading Loading required package: usethis Welcome at Wed Feb 12 15:50:32 2025 Goodbye at Wed Feb 12 15:50:43 2025 ** help *** installing help indices ** building package indices Loading required package: usethis Welcome at Wed Feb 12 15:50:45 2025 Goodbye at Wed Feb 12 15:50:45 2025 ** installing vignettes ** testing if installed package can be loaded from temporary location Loading required package: usethis Welcome at Wed Feb 12 15:50:46 2025 Goodbye at Wed Feb 12 15:50:56 2025 ** testing if installed package can be loaded from final location Loading required package: usethis Welcome at Wed Feb 12 15:50:57 2025 Goodbye at Wed Feb 12 15:51:07 2025 ** testing if installed package keeps a record of temporary installation path * DONE (nucleR)