Package: nucleR Version: 2.39.0 Command: E:\biocbuild\bbs-3.21-bioc\R\bin\R.exe CMD INSTALL nucleR StartedAt: 2025-02-09 16:52:17 -0500 (Sun, 09 Feb 2025) EndedAt: 2025-02-09 16:53:21 -0500 (Sun, 09 Feb 2025) EllapsedTime: 63.8 seconds RetCode: 0 Status: OK