Package: nucleoSim Version: 1.35.0 Command: rm -rf nucleoSim.buildbin-libdir && mkdir nucleoSim.buildbin-libdir && /Users/biocbuild/BBS/utils/build-universal.sh nucleoSim_1.35.0.tar.gz /Library/Frameworks/R.framework/Resources/bin/R nucleoSim.buildbin-libdir StartedAt: 2025-02-10 01:06:20 -0500 (Mon, 10 Feb 2025) EndedAt: 2025-02-10 01:06:32 -0500 (Mon, 10 Feb 2025) EllapsedTime: 11.5 seconds RetCode: 0 Status: OK PackageFile: nucleoSim_1.35.0.tgz PackageFileSize: 495.3 KiB