Package: nucleoSim Version: 1.35.0 Command: /Library/Frameworks/R.framework/Resources/bin/R CMD INSTALL nucleoSim StartedAt: 2025-02-09 15:06:51 -0500 (Sun, 09 Feb 2025) EndedAt: 2025-02-09 15:07:23 -0500 (Sun, 09 Feb 2025) EllapsedTime: 31.7 seconds RetCode: 0 Status: OK