Package: nucleoSim Version: 1.35.0 Command: /home/biocbuild/bbs-3.21-bioc/R/bin/R CMD check --install=check:nucleoSim.install-out.txt --library=/home/biocbuild/bbs-3.21-bioc/R/site-library --timings nucleoSim_1.35.0.tar.gz StartedAt: 2025-02-10 00:52:05 -0500 (Mon, 10 Feb 2025) EndedAt: 2025-02-10 00:53:01 -0500 (Mon, 10 Feb 2025) EllapsedTime: 56.1 seconds RetCode: 0 Status: OK CheckDir: nucleoSim.Rcheck Warnings: 0