Package: nucleoSim Version: 1.35.0 Command: rm -rf nucleoSim.buildbin-libdir && mkdir nucleoSim.buildbin-libdir && E:\biocbuild\bbs-3.21-bioc\R\bin\R.exe CMD INSTALL --build --library=nucleoSim.buildbin-libdir nucleoSim_1.35.0.tar.gz StartedAt: 2025-02-10 08:18:09 -0500 (Mon, 10 Feb 2025) EndedAt: 2025-02-10 08:18:29 -0500 (Mon, 10 Feb 2025) EllapsedTime: 19.8 seconds RetCode: 0 Status: OK PackageFile: nucleoSim_1.35.0.zip PackageFileSize: 339.6 KiB